BEGIN:VCALENDAR
VERSION:2.0
PRODID:-//DuTrac Community Credit Union - ECPv6.15.20//NONSGML v1.0//EN
CALSCALE:GREGORIAN
METHOD:PUBLISH
X-WR-CALNAME:DuTrac Community Credit Union
X-ORIGINAL-URL:https://www.dutrac.org
X-WR-CALDESC:Events for DuTrac Community Credit Union
REFRESH-INTERVAL;VALUE=DURATION:PT1H
X-Robots-Tag:noindex
X-PUBLISHED-TTL:PT1H
BEGIN:VTIMEZONE
TZID:America/Chicago
BEGIN:DAYLIGHT
TZOFFSETFROM:-0600
TZOFFSETTO:-0500
TZNAME:CDT
DTSTART:20250309T080000
END:DAYLIGHT
BEGIN:STANDARD
TZOFFSETFROM:-0500
TZOFFSETTO:-0600
TZNAME:CST
DTSTART:20251102T070000
END:STANDARD
BEGIN:DAYLIGHT
TZOFFSETFROM:-0600
TZOFFSETTO:-0500
TZNAME:CDT
DTSTART:20260308T080000
END:DAYLIGHT
BEGIN:STANDARD
TZOFFSETFROM:-0500
TZOFFSETTO:-0600
TZNAME:CST
DTSTART:20261101T070000
END:STANDARD
BEGIN:DAYLIGHT
TZOFFSETFROM:-0600
TZOFFSETTO:-0500
TZNAME:CDT
DTSTART:20270314T080000
END:DAYLIGHT
BEGIN:STANDARD
TZOFFSETFROM:-0500
TZOFFSETTO:-0600
TZNAME:CST
DTSTART:20271107T070000
END:STANDARD
END:VTIMEZONE
BEGIN:VEVENT
DTSTART;TZID=America/Chicago:20260509T043000
DTEND;TZID=America/Chicago:20260509T183000
DTSTAMP:20260424T190030
CREATED:20250804T171503Z
LAST-MODIFIED:20260304T171848Z
UID:21742-1778301000-1778351400@www.dutrac.org
SUMMARY:Touch A Truck at Voy 61 Drive-In Theatre
DESCRIPTION:Family fun at The Voy 61 Drive In Theatre \nMay 9 \n4:30 – 6:30 pm – Touch a Truck – free admission \n\nFull concession stand\nFamily friendly\nFree kids activities\nPhoto ops with trucks\nRestrooms on site
URL:https://www.dutrac.org/event/dutracs-mobile-branch-61/
LOCATION:The Voy 61 Drive In Theatre\, 1228 Highway 61\, Delmar\, IA\, United States
CATEGORIES:Mobile Branch
END:VEVENT
BEGIN:VEVENT
DTSTART;TZID=America/Chicago:20260509T090000
DTEND;TZID=America/Chicago:20260509T120000
DTSTAMP:20260424T190030
CREATED:20250625T143345Z
LAST-MODIFIED:20260304T171204Z
UID:21488-1778317200-1778328000@www.dutrac.org
SUMMARY:The Sheep Detective Diaper Drive FREE Movie
DESCRIPTION:DuTrac Community Credit Union & Millennium Cinema are hosting a Diaper Drive screening of The Sheep Detectives \nMay 9 \n9:00 am – 12:00 pm \nMovie starts at 10:00 am \nMovie FREE with a donation of diapers!
URL:https://www.dutrac.org/event/lilo-stitch-diaper-drive-free-movie/
LOCATION:Millennium Cinema\, 151 Millennium Drive\, Platteville\, WI\, 53818\, United States
CATEGORIES:Mobile Branch
END:VEVENT
END:VCALENDAR